BEGIN:VCALENDAR
VERSION:2.0
PRODID:-//Jan Dawson - ECPv6.15.20//NONSGML v1.0//EN
CALSCALE:GREGORIAN
METHOD:PUBLISH
X-WR-CALNAME:Jan Dawson
X-ORIGINAL-URL:https://jandawsonauthor.com
X-WR-CALDESC:Events for Jan Dawson
REFRESH-INTERVAL;VALUE=DURATION:PT1H
X-Robots-Tag:noindex
X-PUBLISHED-TTL:PT1H
BEGIN:VTIMEZONE
TZID:America/New_York
BEGIN:DAYLIGHT
TZOFFSETFROM:-0500
TZOFFSETTO:-0400
TZNAME:EDT
DTSTART:20250309T070000
END:DAYLIGHT
BEGIN:STANDARD
TZOFFSETFROM:-0400
TZOFFSETTO:-0500
TZNAME:EST
DTSTART:20251102T060000
END:STANDARD
BEGIN:DAYLIGHT
TZOFFSETFROM:-0500
TZOFFSETTO:-0400
TZNAME:EDT
DTSTART:20260308T070000
END:DAYLIGHT
BEGIN:STANDARD
TZOFFSETFROM:-0400
TZOFFSETTO:-0500
TZNAME:EST
DTSTART:20261101T060000
END:STANDARD
BEGIN:DAYLIGHT
TZOFFSETFROM:-0500
TZOFFSETTO:-0400
TZNAME:EDT
DTSTART:20270314T070000
END:DAYLIGHT
BEGIN:STANDARD
TZOFFSETFROM:-0400
TZOFFSETTO:-0500
TZNAME:EST
DTSTART:20271107T060000
END:STANDARD
END:VTIMEZONE
BEGIN:VEVENT
DTSTART;TZID=America/New_York:20260911T170000
DTEND;TZID=America/New_York:20260911T200000
DTSTAMP:20260422T235421
CREATED:20260415T162057Z
LAST-MODIFIED:20260415T162057Z
UID:444-1789146000-1789156800@jandawsonauthor.com
SUMMARY:Artwalk Book Signing at The Next Chapter Books & Art
DESCRIPTION:Signings give readers a chance to meet the author\, talk about the book\, and purchase personalized\, signed copies of “Building a Little Love.” Copies of my first three Hatteras Island novels will also be available.
URL:https://jandawsonauthor.com/event/artwalk-book-signing-at-next-chapter-books-art/
LOCATION:The Next Chapter Books & Art\, 320 S Front St\, New Bern\, NC\, 28560
ATTACH;FMTTYPE=image/jpeg:https://jandawsonauthor.com/wp-content/uploads/2026/04/Jan-Dawson-book-signing-Next-Chapter-Books.jpg
END:VEVENT
END:VCALENDAR