BEGIN:VCALENDAR
VERSION:2.0
PRODID:-//Jan Dawson - ECPv6.15.20//NONSGML v1.0//EN
CALSCALE:GREGORIAN
METHOD:PUBLISH
X-WR-CALNAME:Jan Dawson
X-ORIGINAL-URL:https://jandawsonauthor.com
X-WR-CALDESC:Events for Jan Dawson
REFRESH-INTERVAL;VALUE=DURATION:PT1H
X-Robots-Tag:noindex
X-PUBLISHED-TTL:PT1H
BEGIN:VTIMEZONE
TZID:America/New_York
BEGIN:DAYLIGHT
TZOFFSETFROM:-0500
TZOFFSETTO:-0400
TZNAME:EDT
DTSTART:20250309T070000
END:DAYLIGHT
BEGIN:STANDARD
TZOFFSETFROM:-0400
TZOFFSETTO:-0500
TZNAME:EST
DTSTART:20251102T060000
END:STANDARD
BEGIN:DAYLIGHT
TZOFFSETFROM:-0500
TZOFFSETTO:-0400
TZNAME:EDT
DTSTART:20260308T070000
END:DAYLIGHT
BEGIN:STANDARD
TZOFFSETFROM:-0400
TZOFFSETTO:-0500
TZNAME:EST
DTSTART:20261101T060000
END:STANDARD
BEGIN:DAYLIGHT
TZOFFSETFROM:-0500
TZOFFSETTO:-0400
TZNAME:EDT
DTSTART:20270314T070000
END:DAYLIGHT
BEGIN:STANDARD
TZOFFSETFROM:-0400
TZOFFSETTO:-0500
TZNAME:EST
DTSTART:20271107T060000
END:STANDARD
END:VTIMEZONE
BEGIN:VEVENT
DTSTART;VALUE=DATE:20260310
DTEND;VALUE=DATE:20260311
DTSTAMP:20260423T025053
CREATED:20260303T194120Z
LAST-MODIFIED:20260303T210040Z
UID:318-1773100800-1773187199@jandawsonauthor.com
SUMMARY:Author Panel Event: Cypress Landing Women's Club
DESCRIPTION:I will be joining two other authors to discuss our writing styles and how we craft our books. We’ll also take questions from the audience. We’ll sign and personalize books sold at the event by Pamlico Books in Washington\, NC. \nThis is a private event. For inquiries\, book signings\, book club events\, and speaking requests\, contact me.
URL:https://jandawsonauthor.com/event/author-panel-event-cypress-landing-womens-club/
LOCATION:Washington\, NC
ATTACH;FMTTYPE=image/jpeg:https://jandawsonauthor.com/wp-content/uploads/2026/03/Jan-Dawson-author-panel-event.jpg
END:VEVENT
END:VCALENDAR