BEGIN:VCALENDAR
VERSION:2.0
PRODID:-//Jan Dawson - ECPv6.15.20//NONSGML v1.0//EN
CALSCALE:GREGORIAN
METHOD:PUBLISH
X-WR-CALNAME:Jan Dawson
X-ORIGINAL-URL:https://jandawsonauthor.com
X-WR-CALDESC:Events for Jan Dawson
REFRESH-INTERVAL;VALUE=DURATION:PT1H
X-Robots-Tag:noindex
X-PUBLISHED-TTL:PT1H
BEGIN:VTIMEZONE
TZID:America/New_York
BEGIN:DAYLIGHT
TZOFFSETFROM:-0500
TZOFFSETTO:-0400
TZNAME:EDT
DTSTART:20250309T070000
END:DAYLIGHT
BEGIN:STANDARD
TZOFFSETFROM:-0400
TZOFFSETTO:-0500
TZNAME:EST
DTSTART:20251102T060000
END:STANDARD
BEGIN:DAYLIGHT
TZOFFSETFROM:-0500
TZOFFSETTO:-0400
TZNAME:EDT
DTSTART:20260308T070000
END:DAYLIGHT
BEGIN:STANDARD
TZOFFSETFROM:-0400
TZOFFSETTO:-0500
TZNAME:EST
DTSTART:20261101T060000
END:STANDARD
BEGIN:DAYLIGHT
TZOFFSETFROM:-0500
TZOFFSETTO:-0400
TZNAME:EDT
DTSTART:20270314T070000
END:DAYLIGHT
BEGIN:STANDARD
TZOFFSETFROM:-0400
TZOFFSETTO:-0500
TZNAME:EST
DTSTART:20271107T060000
END:STANDARD
END:VTIMEZONE
BEGIN:VEVENT
DTSTART;TZID=America/New_York:20260411T110000
DTEND;TZID=America/New_York:20260411T130000
DTSTAMP:20260422T190101
CREATED:20260311T171719Z
LAST-MODIFIED:20260311T172338Z
UID:357-1775905200-1775912400@jandawsonauthor.com
SUMMARY:Book Signing at The Next Chapter Books & Art
DESCRIPTION:Signings give readers a chance to meet the author\, talk about the book\, and purchase personalized\, signed copies of “Building a Little Love.” Copies of my first three Hatteras Island novels will also be available.
URL:https://jandawsonauthor.com/event/book-signing-at-next-chapter-books-art/
LOCATION:The Next Chapter Books & Art\, 320 S Front St\, New Bern\, NC\, 28560
ATTACH;FMTTYPE=image/jpeg:https://jandawsonauthor.com/wp-content/uploads/2026/03/Jan-Dawson-book-signing-Next-Chapter-Books.jpg
END:VEVENT
BEGIN:VEVENT
DTSTART;TZID=America/New_York:20260408T160000
DTEND;TZID=America/New_York:20260408T160000
DTSTAMP:20260422T190101
CREATED:20260316T201213Z
LAST-MODIFIED:20260316T201213Z
UID:381-1775664000-1775664000@jandawsonauthor.com
SUMMARY:Wine\, Cheese\, and a Good Read
DESCRIPTION:Come off the beach and join Jan for a discussion of her new Hatteras Island book\, “Building a Little Love.” Charcuterie and more provided courtesy of the deli. Books will be available for purchase. There is no charge for this event. Open to the public.
URL:https://jandawsonauthor.com/event/wine-cheese-and-a-good-read/
LOCATION:Pamlico Deli\, 53013 NC Hwy 12\, Frisco\, NC\, 27936
ATTACH;FMTTYPE=image/jpeg:https://jandawsonauthor.com/wp-content/uploads/2026/03/Pamlico-Deli.jpg
END:VEVENT
BEGIN:VEVENT
DTSTART;TZID=America/New_York:20260404T100000
DTEND;TZID=America/New_York:20260404T120000
DTSTAMP:20260422T190101
CREATED:20260302T200727Z
LAST-MODIFIED:20260302T201255Z
UID:307-1775296800-1775304000@jandawsonauthor.com
SUMMARY:Book Signing at Island Bookstore in Duck
DESCRIPTION:Signings give readers a chance to meet the author\, talk about the book\, and purchase personalized\, signed copies of “Building a Little Love.” Copies of my first three Hatteras Island novels will also be available.
URL:https://jandawsonauthor.com/event/book-signing-at-island-bookstore-in-duck/
LOCATION:Island Bookstore – Duck\, 1177 Duck Road\, Duck\, NC\, 27949​
ATTACH;FMTTYPE=image/jpeg:https://jandawsonauthor.com/wp-content/uploads/2026/03/Jan-Dawson-book-signing-Island-Bookstore-Duck.jpg
END:VEVENT
BEGIN:VEVENT
DTSTART;TZID=America/New_York:20260403T173000
DTEND;TZID=America/New_York:20260403T193000
DTSTAMP:20260422T190101
CREATED:20260302T200159Z
LAST-MODIFIED:20260309T141617Z
UID:303-1775237400-1775244600@jandawsonauthor.com
SUMMARY:Book Signing at Downtown Books in Manteo
DESCRIPTION:Signings give readers a chance to meet the author\, talk about the book\, and purchase personalized\, signed copies of “Building a Little Love.” Copies of my first three Hatteras Island novels will also be available. This book signing is part of April’s First Friday event in Manteo.
URL:https://jandawsonauthor.com/event/book-signing-at-downtown-books-in-manteo/
LOCATION:Downtown Books\, 103 Sir Walter Raleigh St\, Manteo\, NC\, 27954
ATTACH;FMTTYPE=image/jpeg:https://jandawsonauthor.com/wp-content/uploads/2026/03/Jan-Dawson-book-signing-Downtown-Books-Manteo-1.jpg
END:VEVENT
BEGIN:VEVENT
DTSTART;TZID=America/New_York:20260316T183000
DTEND;TZID=America/New_York:20260316T183000
DTSTAMP:20260422T190101
CREATED:20260302T154009Z
LAST-MODIFIED:20260315T191629Z
UID:297-1773685800-1773685800@jandawsonauthor.com
SUMMARY:POSTPONED - RWS Civic Association Speaker Series: Author Jan Dawson
DESCRIPTION:Postponed due to weather. To be rescheduled at a later date. \nJoin us on March 16th at 6:30 pm at the RWS Community Building in Rodanthe for the RWS Speaker Series! Meet local author\, Jan Dawson\, and learn “How to Write a Book”.
URL:https://jandawsonauthor.com/event/rws-civic-association-speaker-series-author-jan-dawson/
LOCATION:RWS Community Building\, 23646 NC Hwy 12\, Rodanthe\, NC\, 27968
ATTACH;FMTTYPE=image/jpeg:https://jandawsonauthor.com/wp-content/uploads/2026/03/RWS-Speaker-Series-Jan-Dawson.jpeg
END:VEVENT
BEGIN:VEVENT
DTSTART;VALUE=DATE:20260310
DTEND;VALUE=DATE:20260311
DTSTAMP:20260422T190101
CREATED:20260303T194120Z
LAST-MODIFIED:20260303T210040Z
UID:318-1773100800-1773187199@jandawsonauthor.com
SUMMARY:Author Panel Event: Cypress Landing Women's Club
DESCRIPTION:I will be joining two other authors to discuss our writing styles and how we craft our books. We’ll also take questions from the audience. We’ll sign and personalize books sold at the event by Pamlico Books in Washington\, NC. \nThis is a private event. For inquiries\, book signings\, book club events\, and speaking requests\, contact me.
URL:https://jandawsonauthor.com/event/author-panel-event-cypress-landing-womens-club/
LOCATION:Washington\, NC
ATTACH;FMTTYPE=image/jpeg:https://jandawsonauthor.com/wp-content/uploads/2026/03/Jan-Dawson-author-panel-event.jpg
END:VEVENT
END:VCALENDAR